BEGIN:VCALENDAR
VERSION:2.0
PRODID:spatie/icalendar-generator
NAME:Výcvik talentových průvodců | TALENT KOMPAS
X-WR-CALNAME:Výcvik talentových průvodců | TALENT KOMPAS
DESCRIPTION:Výcvik talentových průvodců | TALENT KOMPAS
X-WR-CALDESC:Výcvik talentových průvodců | TALENT KOMPAS
BEGIN:VEVENT
UID:109
SUMMARY:Výcvik talentových průvodců | TALENT KOMPAS
DESCRIPTION:Výcvik talentových průvodců | TALENT KOMPAS
LOCATION:Podnikatelské a inovační centrum hl. m. Prahy
URL:https://www.prazskyinovacniinstitut.cz/udalosti/vycvik-talentovych-pruv
 odcu-|-talent-kompas
DTSTART;TZID=Europe/Prague:20260514T090000
DTEND;TZID=Europe/Prague:20260515T000017
DTSTAMP;TZID=Europe/Bratislava:20260425T161236
END:VEVENT
END:VCALENDAR